BEGIN:VCALENDAR
VERSION:2.0
PRODID:-//ビバ・フローラ - ECPv4.6//NONSGML v1.0//EN
CALSCALE:GREGORIAN
METHOD:PUBLISH
X-WR-CALNAME:ビバ・フローラ
X-ORIGINAL-URL:http://viva.setagaya-hp.or.jp
X-WR-CALDESC:Events for ビバ・フローラ
BEGIN:VEVENT
DTSTART;TZID=Asia/Tokyo:20250101T120000
DTEND;TZID=Asia/Tokyo:20250101T130000
DTSTAMP:20260425T022550
CREATED:20241221T030644Z
LAST-MODIFIED:20241221T030644Z
UID:11734-1735732800-1735736400@viva.setagaya-hp.or.jp
SUMMARY:お正月・おせち献立
DESCRIPTION:お赤飯\n豚角煮\n湯葉巻\nエビの芝煮\n栗きんとん\n紅白かまぼこ\n伊達巻\n紅白なます\n花れんこん\n煮しめ\nすまし汁\nいちごプリン \n
URL:http://viva.setagaya-hp.or.jp/event/%e3%81%8a%e6%ad%a3%e6%9c%88%e3%83%bb%e3%81%8a%e3%81%9b%e3%81%a1%e7%8c%ae%e7%ab%8b-2/
END:VEVENT
END:VCALENDAR