BEGIN:VCALENDAR
VERSION:2.0
PRODID:-//ビバ・フローラ - ECPv4.6//NONSGML v1.0//EN
CALSCALE:GREGORIAN
METHOD:PUBLISH
X-WR-CALNAME:ビバ・フローラ
X-ORIGINAL-URL:http://viva.setagaya-hp.or.jp
X-WR-CALDESC:Events for ビバ・フローラ
BEGIN:VEVENT
DTSTART;TZID=Asia/Tokyo:20160505T080000
DTEND;TZID=Asia/Tokyo:20160505T170000
DTSTAMP:20260420T065805
CREATED:20160114T045307Z
LAST-MODIFIED:20160114T045307Z
UID:477-1462435200-1462467600@viva.setagaya-hp.or.jp
SUMMARY:こどもの日
DESCRIPTION:
URL:http://viva.setagaya-hp.or.jp/event/%e3%81%93%e3%81%a9%e3%82%82%e3%81%ae%e6%97%a5/
END:VEVENT
END:VCALENDAR