BEGIN:VCALENDAR
VERSION:2.0
PRODID:-//ビバ・フローラ - ECPv4.6//NONSGML v1.0//EN
CALSCALE:GREGORIAN
METHOD:PUBLISH
X-WR-CALNAME:ビバ・フローラ
X-ORIGINAL-URL:http://viva.setagaya-hp.or.jp
X-WR-CALDESC:Events for ビバ・フローラ
BEGIN:VEVENT
DTSTART;TZID=Asia/Tokyo:20180610T140000
DTEND;TZID=Asia/Tokyo:20180610T150000
DTSTAMP:20260419T200541
CREATED:20180310T031141Z
LAST-MODIFIED:20180628T071623Z
UID:1197-1528639200-1528642800@viva.setagaya-hp.or.jp
SUMMARY:にりん草の会　&#x1f3a4;
DESCRIPTION:
URL:http://viva.setagaya-hp.or.jp/event/%e3%81%ab%e3%82%8a%e3%82%93%e8%8d%89%e3%81%ae%e4%bc%9a-34/
END:VEVENT
END:VCALENDAR