BEGIN:VCALENDAR
VERSION:2.0
PRODID:-//ビバ・フローラ - ECPv4.6//NONSGML v1.0//EN
CALSCALE:GREGORIAN
METHOD:PUBLISH
X-WR-CALNAME:ビバ・フローラ
X-ORIGINAL-URL:http://viva.setagaya-hp.or.jp
X-WR-CALDESC:Events for ビバ・フローラ
BEGIN:VEVENT
DTSTART;TZID=Asia/Tokyo:20151213T140000
DTEND;TZID=Asia/Tokyo:20151213T150000
DTSTAMP:20260420T212009
CREATED:20151015T075548Z
LAST-MODIFIED:20151109T010751Z
UID:305-1450015200-1450018800@viva.setagaya-hp.or.jp
SUMMARY:にりん草の会
DESCRIPTION:
URL:http://viva.setagaya-hp.or.jp/event/%e3%81%ab%e3%82%8a%e3%82%93%e8%8d%89%e3%81%ae%e4%bc%9a-4/
END:VEVENT
END:VCALENDAR