BEGIN:VCALENDAR
VERSION:2.0
PRODID:-//ビバ・フローラ - ECPv4.6//NONSGML v1.0//EN
CALSCALE:GREGORIAN
METHOD:PUBLISH
X-WR-CALNAME:ビバ・フローラ
X-ORIGINAL-URL:http://viva.setagaya-hp.or.jp
X-WR-CALDESC:Events for ビバ・フローラ
BEGIN:VEVENT
DTSTART;TZID=Asia/Tokyo:20240826T140000
DTEND;TZID=Asia/Tokyo:20240826T150000
DTSTAMP:20260425T103156
CREATED:20240729T013957Z
LAST-MODIFIED:20240729T013957Z
UID:11091-1724680800-1724684400@viva.setagaya-hp.or.jp
SUMMARY:ギター弾き語り
DESCRIPTION:
URL:http://viva.setagaya-hp.or.jp/event/%e3%82%ae%e3%82%bf%e3%83%bc%e5%bc%be%e3%81%8d%e8%aa%9e%e3%82%8a-2/
END:VEVENT
END:VCALENDAR