BEGIN:VCALENDAR
VERSION:2.0
PRODID:-//ビバ・フローラ - ECPv4.6//NONSGML v1.0//EN
CALSCALE:GREGORIAN
METHOD:PUBLISH
X-WR-CALNAME:ビバ・フローラ
X-ORIGINAL-URL:http://viva.setagaya-hp.or.jp
X-WR-CALDESC:Events for ビバ・フローラ
BEGIN:VEVENT
DTSTART;TZID=Asia/Tokyo:20241225T000000
DTEND;TZID=Asia/Tokyo:20241225T130000
DTSTAMP:20260425T030345
CREATED:20230909T014556Z
LAST-MODIFIED:20241219T010825Z
UID:9935-1735084800-1735131600@viva.setagaya-hp.or.jp
SUMMARY:スペシャルランチ&#x1f385;
DESCRIPTION:パン\nチキンペッパーステーキ\nじゃがいもとアンチョビのチーズグラタン\nカリフラワーといんげんのハニーマスタード\nコーンポタージュ\nヨーグルトムース \n
URL:http://viva.setagaya-hp.or.jp/event/%e3%82%af%e3%83%aa%e3%82%b9%e3%83%9e%e3%82%b9/
END:VEVENT
END:VCALENDAR