BEGIN:VCALENDAR
VERSION:2.0
PRODID:-//ビバ・フローラ - ECPv4.6//NONSGML v1.0//EN
CALSCALE:GREGORIAN
METHOD:PUBLISH
X-WR-CALNAME:ビバ・フローラ
X-ORIGINAL-URL:http://viva.setagaya-hp.or.jp
X-WR-CALDESC:Events for ビバ・フローラ
BEGIN:VEVENT
DTSTART;TZID=Asia/Tokyo:20161224T000000
DTEND;TZID=Asia/Tokyo:20161224T130000
DTSTAMP:20260419T191906
CREATED:20161224T013303Z
LAST-MODIFIED:20161224T013303Z
UID:760-1482537600-1482584400@viva.setagaya-hp.or.jp
SUMMARY:スペシャルランチ（イタリアン）
DESCRIPTION:
URL:http://viva.setagaya-hp.or.jp/event/%e3%82%b9%e3%83%9a%e3%82%b7%e3%83%a3%e3%83%ab%e3%83%a9%e3%83%b3%e3%83%81%ef%bc%88%e3%82%a4%e3%82%bf%e3%83%aa%e3%82%a2%e3%83%b3%ef%bc%89/
END:VEVENT
END:VCALENDAR