BEGIN:VCALENDAR
VERSION:2.0
PRODID:-//ビバ・フローラ - ECPv4.6//NONSGML v1.0//EN
CALSCALE:GREGORIAN
METHOD:PUBLISH
X-WR-CALNAME:ビバ・フローラ
X-ORIGINAL-URL:http://viva.setagaya-hp.or.jp
X-WR-CALDESC:Events for ビバ・フローラ
BEGIN:VEVENT
DTSTART;TZID=Asia/Tokyo:20161024T080000
DTEND;TZID=Asia/Tokyo:20161024T170000
DTSTAMP:20260419T204147
CREATED:20161006T052641Z
LAST-MODIFIED:20161006T052641Z
UID:656-1477296000-1477328400@viva.setagaya-hp.or.jp
SUMMARY:スペシャルランチ（和食）
DESCRIPTION:
URL:http://viva.setagaya-hp.or.jp/event/%e3%82%b9%e3%83%9a%e3%82%b7%e3%83%a3%e3%83%ab%e3%83%a9%e3%83%b3%e3%83%81%ef%bc%88%e5%92%8c%e9%a3%9f%ef%bc%89/
END:VEVENT
END:VCALENDAR