BEGIN:VCALENDAR
VERSION:2.0
PRODID:-//ビバ・フローラ - ECPv4.6//NONSGML v1.0//EN
CALSCALE:GREGORIAN
METHOD:PUBLISH
X-WR-CALNAME:ビバ・フローラ
X-ORIGINAL-URL:http://viva.setagaya-hp.or.jp
X-WR-CALDESC:Events for ビバ・フローラ
BEGIN:VEVENT
DTSTART;TZID=Asia/Tokyo:20210728T120000
DTEND;TZID=Asia/Tokyo:20210728T130000
DTSTAMP:20260419T200823
CREATED:20210722T024227Z
LAST-MODIFIED:20210722T024233Z
UID:7360-1627473600-1627477200@viva.setagaya-hp.or.jp
SUMMARY:スペシャルランチ（土用の丑の日）
DESCRIPTION:A　うな重\nB　天丼 \n共通　蕪のカニあんかけ\n　　　胡瓜の三色和え\n　　　水ようかん\n　　　潮汁 \n
URL:http://viva.setagaya-hp.or.jp/event/%e3%82%b9%e3%83%9a%e3%82%b7%e3%83%a3%e3%83%ab%e3%83%a9%e3%83%b3%e3%83%81%ef%bc%88%e5%9c%9f%e7%94%a8%e3%81%ae%e4%b8%91%e3%81%ae%e6%97%a5%ef%bc%89/
END:VEVENT
END:VCALENDAR