BEGIN:VCALENDAR
VERSION:2.0
PRODID:-//ビバ・フローラ - ECPv4.6//NONSGML v1.0//EN
CALSCALE:GREGORIAN
METHOD:PUBLISH
X-WR-CALNAME:ビバ・フローラ
X-ORIGINAL-URL:http://viva.setagaya-hp.or.jp
X-WR-CALDESC:Events for ビバ・フローラ
BEGIN:VEVENT
DTSTART;TZID=Asia/Tokyo:20180327T080000
DTEND;TZID=Asia/Tokyo:20180327T170000
DTSTAMP:20260419T181215
CREATED:20180227T074248Z
LAST-MODIFIED:20180227T074248Z
UID:1182-1522137600-1522170000@viva.setagaya-hp.or.jp
SUMMARY:スペシャルランチ（洋食）
DESCRIPTION:
URL:http://viva.setagaya-hp.or.jp/event/%e3%82%b9%e3%83%9a%e3%82%b7%e3%83%a3%e3%83%ab%e3%83%a9%e3%83%b3%e3%83%81%ef%bc%88%e6%b4%8b%e9%a3%9f%ef%bc%89/
END:VEVENT
END:VCALENDAR