BEGIN:VCALENDAR
VERSION:2.0
PRODID:-//ビバ・フローラ - ECPv4.6//NONSGML v1.0//EN
CALSCALE:GREGORIAN
METHOD:PUBLISH
X-WR-CALNAME:ビバ・フローラ
X-ORIGINAL-URL:http://viva.setagaya-hp.or.jp
X-WR-CALDESC:Events for ビバ・フローラ
BEGIN:VEVENT
DTSTART;TZID=Asia/Tokyo:20220826T120000
DTEND;TZID=Asia/Tokyo:20220826T130000
DTSTAMP:20260420T130325
CREATED:20220822T005841Z
LAST-MODIFIED:20220822T005841Z
UID:8626-1661515200-1661518800@viva.setagaya-hp.or.jp
SUMMARY:スペシャルランチ&#x1f35a;
DESCRIPTION:ジャージャー麺（冷やし担々麵）\nワンタンスープ\n牛肉のサラダシャブシャブ\n海老の唐揚げ\n若鶏のレモン煮\n杏仁豆腐 \n
URL:http://viva.setagaya-hp.or.jp/event/%e3%82%b9%e3%83%9a%e3%82%b7%e3%83%a3%e3%83%ab%e3%83%a9%e3%83%b3%e3%83%81%f0%9f%8d%9a/
END:VEVENT
END:VCALENDAR