BEGIN:VCALENDAR
VERSION:2.0
PRODID:-//ビバ・フローラ - ECPv4.6//NONSGML v1.0//EN
CALSCALE:GREGORIAN
METHOD:PUBLISH
X-WR-CALNAME:ビバ・フローラ
X-ORIGINAL-URL:http://viva.setagaya-hp.or.jp
X-WR-CALDESC:Events for ビバ・フローラ
BEGIN:VEVENT
DTSTART;TZID=Asia/Tokyo:20200428T120000
DTEND;TZID=Asia/Tokyo:20200428T130000
DTSTAMP:20260420T103241
CREATED:20200420T070235Z
LAST-MODIFIED:20200420T070235Z
UID:5554-1588075200-1588078800@viva.setagaya-hp.or.jp
SUMMARY:スペシャルランチ
DESCRIPTION:～春の会席～ \nごはん\n桜鯛の菜種焼き\n蒸し鶏の冷菜\n野菜の湯葉捲き\n小アワビの正油煮\n牛舌のやわらかカツ\n帆立と筍の炒め\nハマグリの潮汁\nカブのムース \n
URL:http://viva.setagaya-hp.or.jp/event/%e3%82%b9%e3%83%9a%e3%82%b7%e3%83%a3%e3%83%ab%e3%83%a9%e3%83%b3%e3%83%81-13/
END:VEVENT
END:VCALENDAR