BEGIN:VCALENDAR
VERSION:2.0
PRODID:-//ビバ・フローラ - ECPv4.6//NONSGML v1.0//EN
CALSCALE:GREGORIAN
METHOD:PUBLISH
X-WR-CALNAME:ビバ・フローラ
X-ORIGINAL-URL:http://viva.setagaya-hp.or.jp
X-WR-CALDESC:Events for ビバ・フローラ
BEGIN:VEVENT
DTSTART;TZID=Asia/Tokyo:20210824T120000
DTEND;TZID=Asia/Tokyo:20210824T130000
DTSTAMP:20260419T215558
CREATED:20210817T022119Z
LAST-MODIFIED:20210817T022119Z
UID:7424-1629806400-1629810000@viva.setagaya-hp.or.jp
SUMMARY:スペシャルランチ
DESCRIPTION:ごはん\n鶏ロール捲き（胡麻ソース）\nゴーヤお和え物\n茗荷のマリネ\nホタテ老酒酒漬\n牛肉の牡蠣ソース炒め\n海老のとうもろこし炒め\nメロン\n金目のすまし汁 \n
URL:http://viva.setagaya-hp.or.jp/event/%e3%82%b9%e3%83%9a%e3%82%b7%e3%83%a3%e3%83%ab%e3%83%a9%e3%83%b3%e3%83%81-22/
END:VEVENT
END:VCALENDAR