BEGIN:VCALENDAR
VERSION:2.0
PRODID:-//ビバ・フローラ - ECPv4.6//NONSGML v1.0//EN
CALSCALE:GREGORIAN
METHOD:PUBLISH
X-WR-CALNAME:ビバ・フローラ
X-ORIGINAL-URL:http://viva.setagaya-hp.or.jp
X-WR-CALDESC:Events for ビバ・フローラ
BEGIN:VEVENT
DTSTART;TZID=Asia/Tokyo:20220225T120000
DTEND;TZID=Asia/Tokyo:20220225T130000
DTSTAMP:20260420T205452
CREATED:20220131T024256Z
LAST-MODIFIED:20220216T042719Z
UID:7981-1645790400-1645794000@viva.setagaya-hp.or.jp
SUMMARY:スペシャルランチ
DESCRIPTION:鶏そぼろ炒り卵丼\n豆乳ババロアのオクラすり流し\nポテトサラダ\n塩昆布とアボカドのゴマ油和え\n牛肉の赤ワイン煮\n帆立と菜の花のかぶら蒸し\n春キャベツのスープ \n
URL:http://viva.setagaya-hp.or.jp/event/%e3%82%b9%e3%83%9a%e3%82%b7%e3%83%a3%e3%83%ab%e3%83%a9%e3%83%b3%e3%83%81-25/
END:VEVENT
END:VCALENDAR