BEGIN:VCALENDAR
VERSION:2.0
PRODID:-//ビバ・フローラ - ECPv4.6//NONSGML v1.0//EN
CALSCALE:GREGORIAN
METHOD:PUBLISH
X-WR-CALNAME:ビバ・フローラ
X-ORIGINAL-URL:http://viva.setagaya-hp.or.jp
X-WR-CALDESC:Events for ビバ・フローラ
BEGIN:VEVENT
DTSTART;TZID=Asia/Tokyo:20220621T120000
DTEND;TZID=Asia/Tokyo:20220621T130000
DTSTAMP:20260421T001448
CREATED:20220615T011024Z
LAST-MODIFIED:20220615T011024Z
UID:8469-1655812800-1655816400@viva.setagaya-hp.or.jp
SUMMARY:スペシャルランチ
DESCRIPTION:パン\n塩豚・ルッコラ\nそら豆・ペコリーノチーズ\nゴールドラッシュムース\nスズキ・魚介のソース\nサバラン\n玉ねぎのスープ \n
URL:http://viva.setagaya-hp.or.jp/event/%e3%82%b9%e3%83%9a%e3%82%b7%e3%83%a3%e3%83%ab%e3%83%a9%e3%83%b3%e3%83%81-29/
END:VEVENT
END:VCALENDAR