BEGIN:VCALENDAR
VERSION:2.0
PRODID:-//ビバ・フローラ - ECPv4.6//NONSGML v1.0//EN
CALSCALE:GREGORIAN
METHOD:PUBLISH
X-WR-CALNAME:ビバ・フローラ
X-ORIGINAL-URL:http://viva.setagaya-hp.or.jp
X-WR-CALDESC:Events for ビバ・フローラ
BEGIN:VEVENT
DTSTART;TZID=Asia/Tokyo:20230627T120000
DTEND;TZID=Asia/Tokyo:20230627T130000
DTSTAMP:20260421T175251
CREATED:20230619T040029Z
LAST-MODIFIED:20230619T040029Z
UID:9681-1687867200-1687870800@viva.setagaya-hp.or.jp
SUMMARY:スペシャルランチ
DESCRIPTION:ホワイトブレッド＆フォカッチャ\n牛肉のタリアータ サラダ仕立て\n穴子の燻製 タプナード添え\nそら豆のペコリーノチーズ和え\n季節野菜のグリル バーニャカウダーソース\n冷製ビスク\nさくらんぼとベリー類たちのコンポート パンナコッタに添えて \n
URL:http://viva.setagaya-hp.or.jp/event/%e3%82%b9%e3%83%9a%e3%82%b7%e3%83%a3%e3%83%ab%e3%83%a9%e3%83%b3%e3%83%81-34/
END:VEVENT
END:VCALENDAR