BEGIN:VCALENDAR
VERSION:2.0
PRODID:-//ビバ・フローラ - ECPv4.6//NONSGML v1.0//EN
CALSCALE:GREGORIAN
METHOD:PUBLISH
X-WR-CALNAME:ビバ・フローラ
X-ORIGINAL-URL:http://viva.setagaya-hp.or.jp
X-WR-CALDESC:Events for ビバ・フローラ
BEGIN:VEVENT
DTSTART;TZID=Asia/Tokyo:20230728T120000
DTEND;TZID=Asia/Tokyo:20230728T130000
DTSTAMP:20260421T235158
CREATED:20230719T053555Z
LAST-MODIFIED:20230719T053555Z
UID:9764-1690545600-1690549200@viva.setagaya-hp.or.jp
SUMMARY:スペシャルランチ
DESCRIPTION:【土用の丑の日献立】\n鰻重（または鰻卵とじ）\nかぶのかにあんかけ\nきゅうりの三色和え\n潮汁\n水ようかん \n
URL:http://viva.setagaya-hp.or.jp/event/%e3%82%b9%e3%83%9a%e3%82%b7%e3%83%a3%e3%83%ab%e3%83%a9%e3%83%b3%e3%83%81-35/
END:VEVENT
END:VCALENDAR