BEGIN:VCALENDAR
VERSION:2.0
PRODID:-//ビバ・フローラ - ECPv4.6//NONSGML v1.0//EN
CALSCALE:GREGORIAN
METHOD:PUBLISH
X-WR-CALNAME:ビバ・フローラ
X-ORIGINAL-URL:http://viva.setagaya-hp.or.jp
X-WR-CALDESC:Events for ビバ・フローラ
BEGIN:VEVENT
DTSTART;TZID=Asia/Tokyo:20231030T120000
DTEND;TZID=Asia/Tokyo:20231030T130000
DTSTAMP:20260422T000934
CREATED:20231023T013421Z
LAST-MODIFIED:20231023T013421Z
UID:10183-1698667200-1698670800@viva.setagaya-hp.or.jp
SUMMARY:スペシャルランチ
DESCRIPTION:松茸ごはん\n舌平目の黄金焼き\nきのこと海鮮の中華炒め\n茶碗蒸し\n卵スープ\nフルーツポンチ \n
URL:http://viva.setagaya-hp.or.jp/event/%e3%82%b9%e3%83%9a%e3%82%b7%e3%83%a3%e3%83%ab%e3%83%a9%e3%83%b3%e3%83%81-38/
END:VEVENT
END:VCALENDAR