BEGIN:VCALENDAR
VERSION:2.0
PRODID:-//ビバ・フローラ - ECPv4.6//NONSGML v1.0//EN
CALSCALE:GREGORIAN
METHOD:PUBLISH
X-WR-CALNAME:ビバ・フローラ
X-ORIGINAL-URL:http://viva.setagaya-hp.or.jp
X-WR-CALDESC:Events for ビバ・フローラ
BEGIN:VEVENT
DTSTART;TZID=Asia/Tokyo:20231127T120000
DTEND;TZID=Asia/Tokyo:20231127T130000
DTSTAMP:20260421T235020
CREATED:20231120T051000Z
LAST-MODIFIED:20231120T051000Z
UID:10253-1701086400-1701090000@viva.setagaya-hp.or.jp
SUMMARY:スペシャルランチ
DESCRIPTION:鶏ごぼうごはん\nカジキの照り焼きとろろかけ\n大根と豚肉の和風バター炒め\n柿とくるみの白和え\nもずく汁\nいちごゼリー \n
URL:http://viva.setagaya-hp.or.jp/event/%e3%82%b9%e3%83%9a%e3%82%b7%e3%83%a3%e3%83%ab%e3%83%a9%e3%83%b3%e3%83%81-39/
END:VEVENT
END:VCALENDAR