BEGIN:VCALENDAR
VERSION:2.0
PRODID:-//ビバ・フローラ - ECPv4.6//NONSGML v1.0//EN
CALSCALE:GREGORIAN
METHOD:PUBLISH
X-WR-CALNAME:ビバ・フローラ
X-ORIGINAL-URL:http://viva.setagaya-hp.or.jp
X-WR-CALDESC:Events for ビバ・フローラ
BEGIN:VEVENT
DTSTART;VALUE=DATE:20231009
DTEND;VALUE=DATE:20231009
DTSTAMP:20260425T110152
CREATED:20221006T062958Z
LAST-MODIFIED:20230123T022634Z
UID:8784-1696809600-1696895999@viva.setagaya-hp.or.jp
SUMMARY:スポーツの日&#x1f3c3;
DESCRIPTION:
URL:http://viva.setagaya-hp.or.jp/event/%e3%82%b9%e3%83%9d%e3%83%bc%e3%83%84%e3%81%ae%e6%97%a5%f0%9f%91%9f/
END:VEVENT
END:VCALENDAR