BEGIN:VCALENDAR
VERSION:2.0
PRODID:-//ビバ・フローラ - ECPv4.6//NONSGML v1.0//EN
CALSCALE:GREGORIAN
METHOD:PUBLISH
X-WR-CALNAME:ビバ・フローラ
X-ORIGINAL-URL:http://viva.setagaya-hp.or.jp
X-WR-CALDESC:Events for ビバ・フローラ
BEGIN:VEVENT
DTSTART;TZID=Asia/Tokyo:20220630T140000
DTEND;TZID=Asia/Tokyo:20220630T150000
DTSTAMP:20260421T031540
CREATED:20220525T055217Z
LAST-MODIFIED:20220525T055217Z
UID:8432-1656597600-1656601200@viva.setagaya-hp.or.jp
SUMMARY:ピアノとフルート&#x1f3b9;
DESCRIPTION:
URL:http://viva.setagaya-hp.or.jp/event/%e3%83%94%e3%82%a2%e3%83%8e%e3%81%a8%e3%83%95%e3%83%ab%e3%83%bc%e3%83%88%f0%9f%8e%b9-34/
END:VEVENT
END:VCALENDAR