BEGIN:VCALENDAR
VERSION:2.0
PRODID:-//ビバ・フローラ - ECPv4.6//NONSGML v1.0//EN
CALSCALE:GREGORIAN
METHOD:PUBLISH
X-WR-CALNAME:ビバ・フローラ
X-ORIGINAL-URL:http://viva.setagaya-hp.or.jp
X-WR-CALDESC:Events for ビバ・フローラ
BEGIN:VEVENT
DTSTART;TZID=Asia/Tokyo:20161028T140000
DTEND;TZID=Asia/Tokyo:20161028T150000
DTSTAMP:20260420T023014
CREATED:20161006T052442Z
LAST-MODIFIED:20161006T052442Z
UID:654-1477663200-1477666800@viva.setagaya-hp.or.jp
SUMMARY:ピアノとフルート
DESCRIPTION:
URL:http://viva.setagaya-hp.or.jp/event/%e3%83%94%e3%82%a2%e3%83%8e%e3%81%a8%e3%83%95%e3%83%ab%e3%83%bc%e3%83%88-12/
END:VEVENT
END:VCALENDAR