BEGIN:VCALENDAR
VERSION:2.0
PRODID:-//ビバ・フローラ - ECPv4.6//NONSGML v1.0//EN
CALSCALE:GREGORIAN
METHOD:PUBLISH
X-WR-CALNAME:ビバ・フローラ
X-ORIGINAL-URL:http://viva.setagaya-hp.or.jp
X-WR-CALDESC:Events for ビバ・フローラ
BEGIN:VEVENT
DTSTART;TZID=Asia/Tokyo:20170416T140000
DTEND;TZID=Asia/Tokyo:20170416T150000
DTSTAMP:20260421T104531
CREATED:20170411T013731Z
LAST-MODIFIED:20170411T014035Z
UID:829-1492351200-1492354800@viva.setagaya-hp.or.jp
SUMMARY:フロアレク（春のぬり絵）
DESCRIPTION:
URL:http://viva.setagaya-hp.or.jp/event/%e3%83%95%e3%83%ad%e3%82%a2%e3%83%ac%e3%82%af%ef%bc%88%e3%81%ac%e3%82%8a%e7%b5%b5%ef%bc%89/
END:VEVENT
END:VCALENDAR