BEGIN:VCALENDAR
VERSION:2.0
PRODID:-//ビバ・フローラ - ECPv4.6//NONSGML v1.0//EN
CALSCALE:GREGORIAN
METHOD:PUBLISH
X-WR-CALNAME:ビバ・フローラ
X-ORIGINAL-URL:http://viva.setagaya-hp.or.jp
X-WR-CALDESC:Events for ビバ・フローラ
BEGIN:VEVENT
DTSTART;TZID=Asia/Tokyo:20211010T140000
DTEND;TZID=Asia/Tokyo:20211010T150000
DTSTAMP:20260419T190259
CREATED:20210925T032137Z
LAST-MODIFIED:20210925T032137Z
UID:7543-1633874400-1633878000@viva.setagaya-hp.or.jp
SUMMARY:フロアレク
DESCRIPTION:
URL:http://viva.setagaya-hp.or.jp/event/%e3%83%95%e3%83%ad%e3%82%a2%e3%83%ac%e3%82%af-18/
END:VEVENT
END:VCALENDAR