BEGIN:VCALENDAR
VERSION:2.0
PRODID:-//ビバ・フローラ - ECPv4.6//NONSGML v1.0//EN
CALSCALE:GREGORIAN
METHOD:PUBLISH
X-WR-CALNAME:ビバ・フローラ
X-ORIGINAL-URL:http://viva.setagaya-hp.or.jp
X-WR-CALDESC:Events for ビバ・フローラ
BEGIN:VEVENT
DTSTART;TZID=Asia/Tokyo:20250406T140000
DTEND;TZID=Asia/Tokyo:20250406T150000
DTSTAMP:20260425T114432
CREATED:20250324T044707Z
LAST-MODIFIED:20250324T044707Z
UID:11991-1743948000-1743951600@viva.setagaya-hp.or.jp
SUMMARY:フロアレク
DESCRIPTION:
URL:http://viva.setagaya-hp.or.jp/event/%e3%83%95%e3%83%ad%e3%82%a2%e3%83%ac%e3%82%af-29/
END:VEVENT
END:VCALENDAR