BEGIN:VCALENDAR
VERSION:2.0
PRODID:-//ビバ・フローラ - ECPv4.6//NONSGML v1.0//EN
CALSCALE:GREGORIAN
METHOD:PUBLISH
X-WR-CALNAME:ビバ・フローラ
X-ORIGINAL-URL:http://viva.setagaya-hp.or.jp
X-WR-CALDESC:Events for ビバ・フローラ
BEGIN:VEVENT
DTSTART;TZID=Asia/Tokyo:20180304T140000
DTEND;TZID=Asia/Tokyo:20180304T150000
DTSTAMP:20260419T181444
CREATED:20180227T074150Z
LAST-MODIFIED:20180227T074150Z
UID:1180-1520172000-1520175600@viva.setagaya-hp.or.jp
SUMMARY:フロアレク
DESCRIPTION:
URL:http://viva.setagaya-hp.or.jp/event/%e3%83%95%e3%83%ad%e3%82%a2%e3%83%ac%e3%82%af/
END:VEVENT
END:VCALENDAR