BEGIN:VCALENDAR
VERSION:2.0
PRODID:-//ビバ・フローラ - ECPv4.6//NONSGML v1.0//EN
CALSCALE:GREGORIAN
METHOD:PUBLISH
X-WR-CALNAME:ビバ・フローラ
X-ORIGINAL-URL:http://viva.setagaya-hp.or.jp
X-WR-CALDESC:Events for ビバ・フローラ
BEGIN:VEVENT
DTSTART;TZID=Asia/Tokyo:20210704T140000
DTEND;TZID=Asia/Tokyo:20210704T150000
DTSTAMP:20260419T124009
CREATED:20210629T050650Z
LAST-MODIFIED:20210629T050650Z
UID:7269-1625407200-1625410800@viva.setagaya-hp.or.jp
SUMMARY:フロア七夕レク
DESCRIPTION:
URL:http://viva.setagaya-hp.or.jp/event/%e3%83%95%e3%83%ad%e3%82%a2%e4%b8%83%e5%a4%95%e3%83%ac%e3%82%af-3/
END:VEVENT
END:VCALENDAR