BEGIN:VCALENDAR
VERSION:2.0
PRODID:-//ビバ・フローラ - ECPv4.6//NONSGML v1.0//EN
CALSCALE:GREGORIAN
METHOD:PUBLISH
X-WR-CALNAME:ビバ・フローラ
X-ORIGINAL-URL:http://viva.setagaya-hp.or.jp
X-WR-CALDESC:Events for ビバ・フローラ
BEGIN:VEVENT
DTSTART;TZID=Asia/Tokyo:20211216T080000
DTEND;TZID=Asia/Tokyo:20211216T170000
DTSTAMP:20260420T065932
CREATED:20210919T034230Z
LAST-MODIFIED:20210919T034230Z
UID:7514-1639641600-1639674000@viva.setagaya-hp.or.jp
SUMMARY:ボロ市（中止）
DESCRIPTION:
URL:http://viva.setagaya-hp.or.jp/event/%e3%83%9c%e3%83%ad%e5%b8%82%ef%bc%88%e4%b8%ad%e6%ad%a2%ef%bc%89-2/
END:VEVENT
END:VCALENDAR