BEGIN:VCALENDAR
VERSION:2.0
PRODID:-//ビバ・フローラ - ECPv4.6//NONSGML v1.0//EN
CALSCALE:GREGORIAN
METHOD:PUBLISH
X-WR-CALNAME:ビバ・フローラ
X-ORIGINAL-URL:http://viva.setagaya-hp.or.jp
X-WR-CALDESC:Events for ビバ・フローラ
BEGIN:VEVENT
DTSTART;VALUE=DATE:20230115
DTEND;VALUE=DATE:20230115
DTSTAMP:20260421T123210
CREATED:20221007T012929Z
LAST-MODIFIED:20221007T012929Z
UID:8802-1673740800-1673827199@viva.setagaya-hp.or.jp
SUMMARY:ボロ市
DESCRIPTION:
URL:http://viva.setagaya-hp.or.jp/event/%e3%83%9c%e3%83%ad%e5%b8%82-21/
END:VEVENT
END:VCALENDAR