BEGIN:VCALENDAR
VERSION:2.0
PRODID:-//ビバ・フローラ - ECPv4.6//NONSGML v1.0//EN
CALSCALE:GREGORIAN
METHOD:PUBLISH
X-WR-CALNAME:ビバ・フローラ
X-ORIGINAL-URL:http://viva.setagaya-hp.or.jp
X-WR-CALDESC:Events for ビバ・フローラ
BEGIN:VEVENT
DTSTART;VALUE=DATE:20241216
DTEND;VALUE=DATE:20241216
DTSTAMP:20260425T014931
CREATED:20230909T014923Z
LAST-MODIFIED:20230909T014923Z
UID:9944-1734307200-1734393599@viva.setagaya-hp.or.jp
SUMMARY:ボロ市
DESCRIPTION:
URL:http://viva.setagaya-hp.or.jp/event/%e3%83%9c%e3%83%ad%e5%b8%82-28/
END:VEVENT
END:VCALENDAR