BEGIN:VCALENDAR
VERSION:2.0
PRODID:-//ビバ・フローラ - ECPv4.6//NONSGML v1.0//EN
CALSCALE:GREGORIAN
METHOD:PUBLISH
X-WR-CALNAME:ビバ・フローラ
X-ORIGINAL-URL:http://viva.setagaya-hp.or.jp
X-WR-CALDESC:Events for ビバ・フローラ
BEGIN:VEVENT
DTSTART;VALUE=DATE:20250707
DTEND;VALUE=DATE:20250707
DTSTAMP:20260425T005514
CREATED:20240708T012201Z
LAST-MODIFIED:20240708T012201Z
UID:11036-1751846400-1751932799@viva.setagaya-hp.or.jp
SUMMARY:七夕
DESCRIPTION:
URL:http://viva.setagaya-hp.or.jp/event/%e4%b8%83%e5%a4%95/
END:VEVENT
END:VCALENDAR