BEGIN:VCALENDAR
VERSION:2.0
PRODID:-//ビバ・フローラ - ECPv4.6//NONSGML v1.0//EN
CALSCALE:GREGORIAN
METHOD:PUBLISH
X-WR-CALNAME:ビバ・フローラ
X-ORIGINAL-URL:http://viva.setagaya-hp.or.jp
X-WR-CALDESC:Events for ビバ・フローラ
BEGIN:VEVENT
DTSTART;TZID=Asia/Tokyo:20180101T080000
DTEND;TZID=Asia/Tokyo:20180101T170000
DTSTAMP:20260419T175219
CREATED:20171115T052313Z
LAST-MODIFIED:20171115T052313Z
UID:998-1514793600-1514826000@viva.setagaya-hp.or.jp
SUMMARY:元日
DESCRIPTION:
URL:http://viva.setagaya-hp.or.jp/event/%e5%85%83%e6%97%a5/
END:VEVENT
END:VCALENDAR