BEGIN:VCALENDAR
VERSION:2.0
PRODID:-//ビバ・フローラ - ECPv4.6//NONSGML v1.0//EN
CALSCALE:GREGORIAN
METHOD:PUBLISH
X-WR-CALNAME:ビバ・フローラ
X-ORIGINAL-URL:http://viva.setagaya-hp.or.jp
X-WR-CALDESC:Events for ビバ・フローラ
BEGIN:VEVENT
DTSTART;VALUE=DATE:20160101
DTEND;VALUE=DATE:20160101
DTSTAMP:20260420T193957
CREATED:20151106T041203Z
LAST-MODIFIED:20151106T041220Z
UID:376-1451606400-1451692799@viva.setagaya-hp.or.jp
SUMMARY:元旦
DESCRIPTION:
URL:http://viva.setagaya-hp.or.jp/event/%e5%85%83%e6%97%a6/
END:VEVENT
END:VCALENDAR