BEGIN:VCALENDAR
VERSION:2.0
PRODID:-//ビバ・フローラ - ECPv4.6//NONSGML v1.0//EN
CALSCALE:GREGORIAN
METHOD:PUBLISH
X-WR-CALNAME:ビバ・フローラ
X-ORIGINAL-URL:http://viva.setagaya-hp.or.jp
X-WR-CALDESC:Events for ビバ・フローラ
BEGIN:VEVENT
DTSTART;TZID=Asia/Tokyo:20180110T140000
DTEND;TZID=Asia/Tokyo:20180110T150000
DTSTAMP:20260419T210124
CREATED:20171115T052917Z
LAST-MODIFIED:20171115T052917Z
UID:1014-1515592800-1515596400@viva.setagaya-hp.or.jp
SUMMARY:動物ボランティア
DESCRIPTION:
URL:http://viva.setagaya-hp.or.jp/event/%e5%8b%95%e7%89%a9%e3%83%9c%e3%83%a9%e3%83%b3%e3%83%86%e3%82%a3%e3%82%a2-13/
END:VEVENT
END:VCALENDAR