BEGIN:VCALENDAR
VERSION:2.0
PRODID:-//ビバ・フローラ - ECPv4.6//NONSGML v1.0//EN
CALSCALE:GREGORIAN
METHOD:PUBLISH
X-WR-CALNAME:ビバ・フローラ
X-ORIGINAL-URL:http://viva.setagaya-hp.or.jp
X-WR-CALDESC:Events for ビバ・フローラ
BEGIN:VEVENT
DTSTART;VALUE=DATE:20221123
DTEND;VALUE=DATE:20221123
DTSTAMP:20260420T224000
CREATED:20220512T040907Z
LAST-MODIFIED:20220512T040907Z
UID:8328-1669161600-1669161600@viva.setagaya-hp.or.jp
SUMMARY:勤労感謝の日
DESCRIPTION:
URL:http://viva.setagaya-hp.or.jp/event/%e5%8b%a4%e5%8a%b4%e6%84%9f%e8%ac%9d%e3%81%ae%e6%97%a5-7/
END:VEVENT
END:VCALENDAR