BEGIN:VCALENDAR
VERSION:2.0
PRODID:-//ビバ・フローラ - ECPv4.6//NONSGML v1.0//EN
CALSCALE:GREGORIAN
METHOD:PUBLISH
X-WR-CALNAME:ビバ・フローラ
X-ORIGINAL-URL:http://viva.setagaya-hp.or.jp
X-WR-CALDESC:Events for ビバ・フローラ
BEGIN:VEVENT
DTSTART;TZID=Asia/Tokyo:20160527T130000
DTEND;TZID=Asia/Tokyo:20160527T150000
DTSTAMP:20260420T113052
CREATED:20160114T044030Z
LAST-MODIFIED:20160114T044250Z
UID:469-1464354000-1464361200@viva.setagaya-hp.or.jp
SUMMARY:囲碁
DESCRIPTION:
URL:http://viva.setagaya-hp.or.jp/event/%e5%9b%b2%e7%a2%81%e6%95%99%e5%ae%a4-8/
END:VEVENT
END:VCALENDAR