BEGIN:VCALENDAR
VERSION:2.0
PRODID:-//ビバ・フローラ - ECPv4.6//NONSGML v1.0//EN
CALSCALE:GREGORIAN
METHOD:PUBLISH
X-WR-CALNAME:ビバ・フローラ
X-ORIGINAL-URL:http://viva.setagaya-hp.or.jp
X-WR-CALDESC:Events for ビバ・フローラ
BEGIN:VEVENT
DTSTART;TZID=Asia/Tokyo:20160722T130000
DTEND;TZID=Asia/Tokyo:20160722T150000
DTSTAMP:20260420T052049
CREATED:20160323T003037Z
LAST-MODIFIED:20160323T003037Z
UID:517-1469192400-1469199600@viva.setagaya-hp.or.jp
SUMMARY:囲碁
DESCRIPTION:
URL:http://viva.setagaya-hp.or.jp/event/%e5%9b%b2%e7%a2%81-12/
END:VEVENT
END:VCALENDAR