BEGIN:VCALENDAR
VERSION:2.0
PRODID:-//ビバ・フローラ - ECPv4.6//NONSGML v1.0//EN
CALSCALE:GREGORIAN
METHOD:PUBLISH
X-WR-CALNAME:ビバ・フローラ
X-ORIGINAL-URL:http://viva.setagaya-hp.or.jp
X-WR-CALDESC:Events for ビバ・フローラ
BEGIN:VEVENT
DTSTART;TZID=Asia/Tokyo:20161118T130000
DTEND;TZID=Asia/Tokyo:20161118T150000
DTSTAMP:20260419T203847
CREATED:20160812T013232Z
LAST-MODIFIED:20160812T013232Z
UID:625-1479474000-1479481200@viva.setagaya-hp.or.jp
SUMMARY:囲碁
DESCRIPTION:
URL:http://viva.setagaya-hp.or.jp/event/%e5%9b%b2%e7%a2%81-27/
END:VEVENT
END:VCALENDAR