BEGIN:VCALENDAR
VERSION:2.0
PRODID:-//ビバ・フローラ - ECPv4.6//NONSGML v1.0//EN
CALSCALE:GREGORIAN
METHOD:PUBLISH
X-WR-CALNAME:ビバ・フローラ
X-ORIGINAL-URL:http://viva.setagaya-hp.or.jp
X-WR-CALDESC:Events for ビバ・フローラ
BEGIN:VEVENT
DTSTART;TZID=Asia/Tokyo:20161125T130000
DTEND;TZID=Asia/Tokyo:20161125T150000
DTSTAMP:20260419T233223
CREATED:20160812T013303Z
LAST-MODIFIED:20160812T013303Z
UID:626-1480078800-1480086000@viva.setagaya-hp.or.jp
SUMMARY:囲碁
DESCRIPTION:
URL:http://viva.setagaya-hp.or.jp/event/%e5%9b%b2%e7%a2%81-28/
END:VEVENT
END:VCALENDAR