BEGIN:VCALENDAR
VERSION:2.0
PRODID:-//ビバ・フローラ - ECPv4.6//NONSGML v1.0//EN
CALSCALE:GREGORIAN
METHOD:PUBLISH
X-WR-CALNAME:ビバ・フローラ
X-ORIGINAL-URL:http://viva.setagaya-hp.or.jp
X-WR-CALDESC:Events for ビバ・フローラ
BEGIN:VEVENT
DTSTART;VALUE=DATE:20241231
DTEND;VALUE=DATE:20241231
DTSTAMP:20260424T235709
CREATED:20230909T014457Z
LAST-MODIFIED:20230909T014457Z
UID:9930-1735603200-1735689599@viva.setagaya-hp.or.jp
SUMMARY:大晦日
DESCRIPTION:
URL:http://viva.setagaya-hp.or.jp/event/%e5%a4%a7%e6%99%a6%e6%97%a5-8/
END:VEVENT
END:VCALENDAR