BEGIN:VCALENDAR
VERSION:2.0
PRODID:-//ビバ・フローラ - ECPv4.6//NONSGML v1.0//EN
CALSCALE:GREGORIAN
METHOD:PUBLISH
X-WR-CALNAME:ビバ・フローラ
X-ORIGINAL-URL:http://viva.setagaya-hp.or.jp
X-WR-CALDESC:Events for ビバ・フローラ
BEGIN:VEVENT
DTSTART;TZID=Asia/Tokyo:20220223T080000
DTEND;TZID=Asia/Tokyo:20220223T170000
DTSTAMP:20260420T110847
CREATED:20210919T034424Z
LAST-MODIFIED:20210919T034424Z
UID:7526-1645603200-1645635600@viva.setagaya-hp.or.jp
SUMMARY:天皇誕生日
DESCRIPTION:
URL:http://viva.setagaya-hp.or.jp/event/%e5%a4%a9%e7%9a%87%e8%aa%95%e7%94%9f%e6%97%a5-6/
END:VEVENT
END:VCALENDAR