BEGIN:VCALENDAR
VERSION:2.0
PRODID:-//ビバ・フローラ - ECPv4.6//NONSGML v1.0//EN
CALSCALE:GREGORIAN
METHOD:PUBLISH
X-WR-CALNAME:ビバ・フローラ
X-ORIGINAL-URL:http://viva.setagaya-hp.or.jp
X-WR-CALDESC:Events for ビバ・フローラ
BEGIN:VEVENT
DTSTART;TZID=Asia/Tokyo:20160821T114500
DTEND;TZID=Asia/Tokyo:20160821T150000
DTSTAMP:20260419T231603
CREATED:20160519T060820Z
LAST-MODIFIED:20160812T013508Z
UID:565-1471779900-1471791600@viva.setagaya-hp.or.jp
SUMMARY:家族会・日本舞踊
DESCRIPTION:
URL:http://viva.setagaya-hp.or.jp/event/%e5%ae%b6%e6%97%8f%e4%bc%9a%ef%bc%88%e4%ba%88%e5%ae%9a%ef%bc%89/
END:VEVENT
END:VCALENDAR