BEGIN:VCALENDAR
VERSION:2.0
PRODID:-//ビバ・フローラ - ECPv4.6//NONSGML v1.0//EN
CALSCALE:GREGORIAN
METHOD:PUBLISH
X-WR-CALNAME:ビバ・フローラ
X-ORIGINAL-URL:http://viva.setagaya-hp.or.jp
X-WR-CALDESC:Events for ビバ・フローラ
BEGIN:VEVENT
DTSTART;VALUE=DATE:20250211
DTEND;VALUE=DATE:20250211
DTSTAMP:20260425T033918
CREATED:20240708T004852Z
LAST-MODIFIED:20240708T004852Z
UID:10990-1739232000-1739318399@viva.setagaya-hp.or.jp
SUMMARY:建国記念の日
DESCRIPTION:
URL:http://viva.setagaya-hp.or.jp/event/%e5%bb%ba%e5%9b%bd%e8%a8%98%e5%bf%b5%e3%81%ae%e6%97%a5-9/
END:VEVENT
END:VCALENDAR