BEGIN:VCALENDAR
VERSION:2.0
PRODID:-//ビバ・フローラ - ECPv4.6//NONSGML v1.0//EN
CALSCALE:GREGORIAN
METHOD:PUBLISH
X-WR-CALNAME:ビバ・フローラ
X-ORIGINAL-URL:http://viva.setagaya-hp.or.jp
X-WR-CALDESC:Events for ビバ・フローラ
BEGIN:VEVENT
DTSTART;VALUE=DATE:20230503
DTEND;VALUE=DATE:20230503
DTSTAMP:20260421T171847
CREATED:20221006T062103Z
LAST-MODIFIED:20221006T062103Z
UID:8767-1683072000-1683158399@viva.setagaya-hp.or.jp
SUMMARY:憲法記念日
DESCRIPTION:
URL:http://viva.setagaya-hp.or.jp/event/%e6%86%b2%e6%b3%95%e8%a8%98%e5%bf%b5%e6%97%a5-8/
END:VEVENT
END:VCALENDAR