BEGIN:VCALENDAR
VERSION:2.0
PRODID:-//ビバ・フローラ - ECPv4.6//NONSGML v1.0//EN
CALSCALE:GREGORIAN
METHOD:PUBLISH
X-WR-CALNAME:ビバ・フローラ
X-ORIGINAL-URL:http://viva.setagaya-hp.or.jp
X-WR-CALDESC:Events for ビバ・フローラ
BEGIN:VEVENT
DTSTART;VALUE=DATE:20240503
DTEND;VALUE=DATE:20240503
DTSTAMP:20260424T153202
CREATED:20230909T013628Z
LAST-MODIFIED:20230909T013628Z
UID:9895-1714694400-1714780799@viva.setagaya-hp.or.jp
SUMMARY:憲法記念日
DESCRIPTION:
URL:http://viva.setagaya-hp.or.jp/event/%e6%86%b2%e6%b3%95%e8%a8%98%e5%bf%b5%e6%97%a5-9/
END:VEVENT
END:VCALENDAR