BEGIN:VCALENDAR
VERSION:2.0
PRODID:-//ビバ・フローラ - ECPv4.6//NONSGML v1.0//EN
CALSCALE:GREGORIAN
METHOD:PUBLISH
X-WR-CALNAME:ビバ・フローラ
X-ORIGINAL-URL:http://viva.setagaya-hp.or.jp
X-WR-CALDESC:Events for ビバ・フローラ
BEGIN:VEVENT
DTSTART;TZID=Asia/Tokyo:20220110T080000
DTEND;TZID=Asia/Tokyo:20220110T170000
DTSTAMP:20260420T125914
CREATED:20210919T034304Z
LAST-MODIFIED:20210919T034304Z
UID:7518-1641801600-1641834000@viva.setagaya-hp.or.jp
SUMMARY:成人の日
DESCRIPTION:
URL:http://viva.setagaya-hp.or.jp/event/%e6%88%90%e4%ba%ba%e3%81%ae%e6%97%a5-6/
END:VEVENT
END:VCALENDAR