BEGIN:VCALENDAR
VERSION:2.0
PRODID:-//ビバ・フローラ - ECPv4.6//NONSGML v1.0//EN
CALSCALE:GREGORIAN
METHOD:PUBLISH
X-WR-CALNAME:ビバ・フローラ
X-ORIGINAL-URL:http://viva.setagaya-hp.or.jp
X-WR-CALDESC:Events for ビバ・フローラ
BEGIN:VEVENT
DTSTART;VALUE=DATE:20250224
DTEND;VALUE=DATE:20250224
DTSTAMP:20260425T034008
CREATED:20240708T005023Z
LAST-MODIFIED:20240708T005034Z
UID:10992-1740355200-1740441599@viva.setagaya-hp.or.jp
SUMMARY:振替休日
DESCRIPTION:
URL:http://viva.setagaya-hp.or.jp/event/%e6%8c%af%e6%9b%bf%e4%bc%91%e6%97%a5-19/
END:VEVENT
END:VCALENDAR