BEGIN:VCALENDAR
VERSION:2.0
PRODID:-//ビバ・フローラ - ECPv4.6//NONSGML v1.0//EN
CALSCALE:GREGORIAN
METHOD:PUBLISH
X-WR-CALNAME:ビバ・フローラ
X-ORIGINAL-URL:http://viva.setagaya-hp.or.jp
X-WR-CALDESC:Events for ビバ・フローラ
BEGIN:VEVENT
DTSTART;TZID=Asia/Tokyo:20221117T093000
DTEND;TZID=Asia/Tokyo:20221117T113000
DTSTAMP:20260420T191355
CREATED:20220512T053432Z
LAST-MODIFIED:20220512T053432Z
UID:8388-1668677400-1668684600@viva.setagaya-hp.or.jp
SUMMARY:散髪日✄
DESCRIPTION:
URL:http://viva.setagaya-hp.or.jp/event/%e6%95%a3%e9%ab%aa%e6%97%a5%e2%9c%84-62/
END:VEVENT
END:VCALENDAR