BEGIN:VCALENDAR
VERSION:2.0
PRODID:-//ビバ・フローラ - ECPv4.6//NONSGML v1.0//EN
CALSCALE:GREGORIAN
METHOD:PUBLISH
X-WR-CALNAME:ビバ・フローラ
X-ORIGINAL-URL:http://viva.setagaya-hp.or.jp
X-WR-CALDESC:Events for ビバ・フローラ
BEGIN:VEVENT
DTSTART;TZID=Asia/Tokyo:20230420T093000
DTEND;TZID=Asia/Tokyo:20230420T150000
DTSTAMP:20260421T124444
CREATED:20221007T051828Z
LAST-MODIFIED:20221007T051828Z
UID:8899-1681983000-1682002800@viva.setagaya-hp.or.jp
SUMMARY:散髪日✄
DESCRIPTION:
URL:http://viva.setagaya-hp.or.jp/event/%e6%95%a3%e9%ab%aa%e6%97%a5%e2%9c%84-72/
END:VEVENT
END:VCALENDAR