BEGIN:VCALENDAR
VERSION:2.0
PRODID:-//ビバ・フローラ - ECPv4.6//NONSGML v1.0//EN
CALSCALE:GREGORIAN
METHOD:PUBLISH
X-WR-CALNAME:ビバ・フローラ
X-ORIGINAL-URL:http://viva.setagaya-hp.or.jp
X-WR-CALDESC:Events for ビバ・フローラ
BEGIN:VEVENT
DTSTART;TZID=Asia/Tokyo:20230601T093000
DTEND;TZID=Asia/Tokyo:20230601T150000
DTSTAMP:20260421T093925
CREATED:20221007T052015Z
LAST-MODIFIED:20221007T052015Z
UID:8905-1685611800-1685631600@viva.setagaya-hp.or.jp
SUMMARY:散髪日✄
DESCRIPTION:
URL:http://viva.setagaya-hp.or.jp/event/%e6%95%a3%e9%ab%aa%e6%97%a5%e2%9c%84-75/
END:VEVENT
END:VCALENDAR